BEGIN:VCALENDAR
VERSION:2.0
PRODID:spatie/icalendar-generator
DESCRIPTION:Évènements de Gang des Vieux en Colère
X-WR-CALDESC:Évènements de Gang des Vieux en Colère
REFRESH-INTERVAL;VALUE=DURATION:PT1440M
X-PUBLISHED-TTL:PT1440M
BEGIN:VTIMEZONE
TZID:Europe/Brussels
BEGIN:STANDARD
DTSTART:20251026T030000Z
TZOFFSETFROM:+0200
TZOFFSETTO:+0100
END:STANDARD
BEGIN:DAYLIGHT
DTSTART:20260329T020000Z
TZOFFSETFROM:+0100
TZOFFSETTO:+0200
END:DAYLIGHT
END:VTIMEZONE
BEGIN:VTIMEZONE
TZID:UTC
BEGIN:STANDARD
DTSTART:20250724T082620Z
TZOFFSETFROM:+0000
TZOFFSETTO:+0000
END:STANDARD
END:VTIMEZONE
BEGIN:VEVENT
UID:56-21
DTSTAMP:20260420T082620Z
SUMMARY:Spectacle Tentative Tornade
LOCATION:CAFÉ DE L\\'HARMONIE à Couvin Rue du Parc Saint Roch\, 2  Couvi
 n  5660
ORGANIZER;CN=Marc H:MAILTO:marc@gangdesvieuxencolere.be
DTSTART;TZID=Europe/Brussels;VALUE=DATE:20260410
DTEND;TZID=Europe/Brussels;VALUE=DATE:20260411
X-ALT-DESC;FMTTYPE=TEXT/HTML:<p>Tentative de répondre par la poésie à c
 ette période chamboulée. <br />\nTornade quant au débordement de l’
 assignation à nos rôles\, irréductibles vagues lançant des feux d’ar
 tifice pour dérober la nuit.</p>\n
CATEGORIES:Forum
URL;VALUE=URI:https://gangdesvieuxencolere.be/mc-events/spectacle-tentative
 -tornade/
METHOD:PUBLISH
END:VEVENT
END:VCALENDAR